BEGIN:VCALENDAR
VERSION:2.0
PRODID:-//startbase.de//startbase Events 1.0//EN
CALSCALE:GREGORIAN
BEGIN:VTIMEZONE
TZID:Europe/Berlin
BEGIN:DAYLIGHT
TZOFFSETFROM:+0100
RRULE:FREQ=YEARLY;BYMONTH=3;BYDAY=-1SU
DTSTART:19810329T020000
TZNAME:CEST
TZOFFSETTO:+0200
END:DAYLIGHT
METHOD:PUBLISH
BEGIN:VEVENT
SUMMARY:GAUTENG@k56@+27695222391 BUY TINAH BEST skin #lightening cream, Dark Spots/ Stretch Marks. pills, in
UID:1360364a80fe255145e94a5f238cfad1
SEQUENCE:0
STATUS:CONFIRMED
TRANSP:TRANSPARENT
DTSTART:20221208T230012
DTEND:20221209T030012
DTSTAMP:20221207T202512
LOCATION:SANDTON, 4TH STREET, SANDTON
GEO:-26.10568890,28.08346110
DESCRIPTION:GAUTENG@k56@+27695222391 BUY TINAH BEST skin #lightening cream, Dark Spots/ Stretch Marks. pills, injection in Vereeniging, Orange Farm Johannesburg Lenasia Midrand Randburg Germiston Benoni Boksburg, rakpan Daveyton, Duduza, edenvale, germiston Impumelelo Isando Katlehong Kempton Park KwaThema Nigel Reiger Park Springs Tembisa Thokoza\n\nIrene Mamelodi Pretoria Soshanguve Boipatong Bophelong Evaton Sebokeng Sharpeville Vanderbijlpark Vereeniging Meyerton Heidelberg Ratanda Bronkhorstspruit Ekanga
URL:https://www.startbase.de/events/gauteng-k56-27695222391-buy-tinah-best-skin-lightening-cream-dark-spots-stretch-marks-pill/
END:VEVENT
END:VCALENDAR