BEGIN:VCALENDAR
VERSION:2.0
PRODID:-//startbase.de//startbase Events 1.0//EN
CALSCALE:GREGORIAN
BEGIN:VTIMEZONE
TZID:Europe/Berlin
BEGIN:DAYLIGHT
TZOFFSETFROM:+0100
RRULE:FREQ=YEARLY;BYMONTH=3;BYDAY=-1SU
DTSTART:19810329T020000
TZNAME:CEST
TZOFFSETTO:+0200
END:DAYLIGHT
METHOD:PUBLISH
BEGIN:VEVENT
SUMMARY:Gründen: Finanzierung und Shareholder-Agreement
UID:8f30e034c36aa7186ffa0cbf5083d522
SEQUENCE:0
STATUS:CONFIRMED
TRANSP:TRANSPARENT
DTSTART:20240130T170001
DTEND:20240130T190001
DTSTAMP:20231106T164611
LOCATION:Campus Eilenburger Straße der HTWK Leipzig, Eilenburger Straße 13, Leipzig
GEO:51.33325560,12.40055110
DESCRIPTION:\nEine erfolgreiche Unternehmensgründung hängt von viele Faktoren ab und am Ende soll es sich natürlich auch finanziell lohnen. Dafür müssen bereits frühzeitig die Weichen gestellt werden. Spätestens wenn man externe Investoren benötigt, stellt sich die Frage: Wieviel ist meine Idee Wert und wieviel muss ich davon abgeben, um genug Geld für die Start Up Phase einzusammeln? Wen spreche ich an? Was ist ein Shareholder-Agreement und was bedeutet es, good leaver oder bad leaver zu sein? In d
URL:https://www.startbase.de/events/gruenden-finanzierung-und-shareholder-agreement-2024-01-campus-eilenburger-strasse-der-htw/
END:VEVENT
END:VCALENDAR