BEGIN:VCALENDAR
VERSION:2.0
PRODID:-//startbase.de//startbase Events 1.0//EN
CALSCALE:GREGORIAN
BEGIN:VTIMEZONE
TZID:Europe/Berlin
BEGIN:DAYLIGHT
TZOFFSETFROM:+0100
RRULE:FREQ=YEARLY;BYMONTH=3;BYDAY=-1SU
DTSTART:19810329T020000
TZNAME:CEST
TZOFFSETTO:+0200
END:DAYLIGHT
METHOD:PUBLISH
BEGIN:VEVENT
SUMMARY:Gründerszene CHRO Dinner Berlin
UID:45d02b1cba9b0af3b0bfa5825a917812
SEQUENCE:0
STATUS:CONFIRMED
TRANSP:TRANSPARENT
DTSTART:20230316T190003
DTEND:20230316T000003
DTSTAMP:20230307T162703
LOCATION:Gärtnerei, Torstraße 179, Berlin, Germany
GEO:52.52883010,13.39406610
DESCRIPTION:Das Gründerszene CHRO Dinner bringt am 16. März in einem exklusiven Rahmen führende Personaler der Startup-Szene in gehobener Atmosphäre zusammen, um sich über branchenbezogene Herausforderungen und Trends auszutauschen. Die inspirierenden Gespräche mit Entscheidern der eigenen Branche werden von einem erlesenen Drei-Gänge-Menü begleitet. Den Auftakt zum Dinner und damit eine Extraportion Branchen-Insights liefert Friderike Schröder, CHRO von Ratepay.\n\n\n\nWeitere Details und das Bewerbun
URL:https://www.startbase.de/events/gruenderszene-chro-dinner-berlin-2023-03-gaertnerei/
END:VEVENT
END:VCALENDAR