BEGIN:VCALENDAR
VERSION:2.0
PRODID:-//startbase.de//startbase Events 1.0//EN
CALSCALE:GREGORIAN
BEGIN:VTIMEZONE
TZID:Europe/Berlin
BEGIN:DAYLIGHT
TZOFFSETFROM:+0100
RRULE:FREQ=YEARLY;BYMONTH=3;BYDAY=-1SU
DTSTART:19810329T020000
TZNAME:CEST
TZOFFSETTO:+0200
END:DAYLIGHT
METHOD:PUBLISH
BEGIN:VEVENT
SUMMARY:Pioneers of Lifestyle
UID:da4095b79a7a0b3e5b431847a6b6be9b
SEQUENCE:0
STATUS:CONFIRMED
TRANSP:TRANSPARENT
DTSTART:20190702T080007
DTEND:20190702T080007
DTSTAMP:20190702T000007
LOCATION:Forum Messe Frankfurt
Ludwig-Erhard-Anlage 1
60327 Frankfurt am Main, Frankfurt am Main, Germany
GEO:50.11178680,8.64957620
DESCRIPTION:Die Konferenz ist ein einzigartiges Format, welches Start­ups, Mittelständler und Corporates aus der Lifestyle­-Industrie zusammenbringt. Mit dem Pioneers Startup Pitch, bei dem aufstrebende Start­ups ihre innovativen Geschäftsideen vorstellen, wird die Konferenz zum idealen Sprungbrett für neuartige Geschäftsmodelle.Im gemeinsamen Austausch lernen Hersteller, Händler, Influencer und Digitalexperten, mit welchen Strategien die aktuellen Herausforderungen des Branchen-Wandels erfolgre
URL:https://www.startbase.de/events/pioneers-of-lifestyle-frankfurt-am-main/
END:VEVENT
END:VCALENDAR