BEGIN:VCALENDAR
VERSION:2.0
PRODID:-//startbase.de//startbase Events 1.0//EN
CALSCALE:GREGORIAN
BEGIN:VTIMEZONE
TZID:Europe/Berlin
BEGIN:DAYLIGHT
TZOFFSETFROM:+0100
RRULE:FREQ=YEARLY;BYMONTH=3;BYDAY=-1SU
DTSTART:19810329T020000
TZNAME:CEST
TZOFFSETTO:+0200
END:DAYLIGHT
METHOD:PUBLISH
BEGIN:VEVENT
SUMMARY:Pitch Club Developer Edition #76 (Online) im Raum Leipzig/Dresden
UID:b2107e79fa8e67ab9853d6645152a3d4
SEQUENCE:0
STATUS:CONFIRMED
TRANSP:TRANSPARENT
DTSTART:20210318T170003
DTEND:20210318T210003
DTSTAMP:20210204T174902
LOCATION:Online-Event, Leipzig, Germany
GEO:51.33969550,12.37307470
DESCRIPTION:Softwareentwickler und IT-Professionals aufgepasst!\n\n\n\nDer Pitch Club veranstaltet am Donnerstag, den 18. März 2021, ab 17 Uhr, die “Pitch Club Developer Edition #76” (Online) im Raum Leipzig/Dresden. Startups und Unternehmen präsentieren sich mit einem Pitch und geben Antworten auf kritische Fragen. Beim Event treffen gestandene Unternehmen und Startups auf Softwareentwickler, die es zu überzeugen gilt. Die Unternehmen pitchen ihr HR-Konzept, Jobs und Projekte und versuchen so, die Talen
URL:https://www.startbase.de/events/pitch-club-developer-edition-76-online-im-raum-leipzig-dresden-2021-03-online-event/
END:VEVENT
END:VCALENDAR